BEGIN:VCALENDAR
VERSION:2.0
PRODID:-//USA Dance Charlottesville - ECPv6.15.20//NONSGML v1.0//EN
CALSCALE:GREGORIAN
METHOD:PUBLISH
X-WR-CALNAME:USA Dance Charlottesville
X-ORIGINAL-URL:https://www.usadancecville.org
X-WR-CALDESC:Events for USA Dance Charlottesville
REFRESH-INTERVAL;VALUE=DURATION:PT1H
X-Robots-Tag:noindex
X-PUBLISHED-TTL:PT1H
BEGIN:VTIMEZONE
TZID:UTC
BEGIN:STANDARD
TZOFFSETFROM:+0000
TZOFFSETTO:+0000
TZNAME:UTC
DTSTART:20250101T000000
END:STANDARD
END:VTIMEZONE
BEGIN:VEVENT
DTSTART;TZID=UTC:20260425T190000
DTEND;TZID=UTC:20260425T220000
DTSTAMP:20260423T115715
CREATED:20260328T152354Z
LAST-MODIFIED:20260419T040843Z
UID:4166-1777143600-1777154400@www.usadancecville.org
SUMMARY:April Dance
DESCRIPTION:Join us at The Center for our monthly ballroom dance! \nDavid Acunzo of Charlottesville Tango will teach the pre-dance class.  He will teach “Argentine Tango.”  The class is from 7pm – 8pm.  Social ballroom dancing will follow from 8pm – 10pm. \n 
URL:https://www.usadancecville.org/event/april-dance-3/
LOCATION:The Center at Belvedere\, 540 Belvedere Boulevard\, Charlottesville\, VA\, 22901\, United States
ATTACH;FMTTYPE=image/jpeg:https://www.usadancecville.org/wp-content/uploads/2026/03/2026-04-April-Flyer-01-scaled.jpg
ORGANIZER;CN="USA Dance Charlottesville":MAILTO:usadancecharlottesville@gmail.com
END:VEVENT
BEGIN:VEVENT
DTSTART;TZID=UTC:20260523T190000
DTEND;TZID=UTC:20260523T220000
DTSTAMP:20260423T115715
CREATED:20260328T152608Z
LAST-MODIFIED:20260328T152608Z
UID:4168-1779562800-1779573600@www.usadancecville.org
SUMMARY:May Dance
DESCRIPTION:Adam Mehring of Smooth Sailing Ballroom Dance Studio will teach the pre-dance class at our May Dance.  The class is at 7pm.  The social dance follows from 8pm-10pm. \nPlease join us on the dance floor!
URL:https://www.usadancecville.org/event/may-dance-3/
LOCATION:The Center at Belvedere\, 540 Belvedere Boulevard\, Charlottesville\, VA\, 22901\, United States
ORGANIZER;CN="USA Dance Charlottesville":MAILTO:usadancecharlottesville@gmail.com
END:VEVENT
BEGIN:VEVENT
DTSTART;TZID=UTC:20260627T190000
DTEND;TZID=UTC:20260627T220000
DTSTAMP:20260423T115715
CREATED:20260328T153016Z
LAST-MODIFIED:20260419T041016Z
UID:4170-1782586800-1782597600@www.usadancecville.org
SUMMARY:June Showcase
DESCRIPTION:Join us at The Center for our June Showcase!  See routines by local professional and amateur dancers.  Enjoy social dancing between the sets.  Light refreshments will be served.
URL:https://www.usadancecville.org/event/june-showcase-2/
LOCATION:The Center at Belvedere\, 540 Belvedere Boulevard\, Charlottesville\, VA\, 22901\, United States
ATTACH;FMTTYPE=image/jpeg:https://www.usadancecville.org/wp-content/uploads/2026/03/2025-02-04_Summer-2026-Showcase-Flyer-04-FINAL-scaled.jpg
ORGANIZER;CN="USA Dance Charlottesville":MAILTO:usadancecharlottesville@gmail.com
END:VEVENT
END:VCALENDAR